BEGIN:VCALENDAR
VERSION:2.0
BEGIN:VEVENT
DTSTART:20260506T150000Z
DTEND:20260506T150000Z
SUMMARY:Beseda v knihovně - CESTA DO COMPOSTELY - Camino Primitivo aneb hory i pro seniory
DESCRIPTION:
END:VEVENT
END:VCALENDAR