BEGIN:VCALENDAR
VERSION:2.0
BEGIN:VEVENT
DTSTART:20260422T150000Z
DTEND:20260422T150000Z
SUMMARY:Beseda v knihovně - 20 LET U KORMIDLA OBCE S ODSTUPEM A NADHLEDEM
DESCRIPTION:
END:VEVENT
END:VCALENDAR